BEGIN:VCALENDAR
VERSION:2.0
PRODID:-//ChamberMaster//Event Calendar 2.0//EN
METHOD:PUBLISH
X-PUBLISHED-TTL:P1H
REFRESH-INTERVAL:P1H
CALSCALE:GREGORIAN
BEGIN:VTIMEZONE
TZID:America/Anchorage
BEGIN:DAYLIGHT
RRULE:FREQ=YEARLY;BYMONTH=3;BYDAY=2SU
DTSTART:20070101T000000
TZOFFSETFROM:-0900
TZOFFSETTO:-0800
TZNAME:Alaskan Daylight Time
END:DAYLIGHT
BEGIN:STANDARD
RRULE:FREQ=YEARLY;BYMONTH=11;BYDAY=1SU
DTSTART:20070101T000000
TZOFFSETFROM:-0800
TZOFFSETTO:-0900
TZNAME:Alaskan Standard Time
END:STANDARD
END:VTIMEZONE
BEGIN:VEVENT
DTSTART;TZID=America/Anchorage:20260423T160000
DTEND;TZID=America/Anchorage:20260423T170000
X-MICROSOFT-CDO-ALLDAYEVENT:FALSE
SUMMARY:Interior District Update & Membership Benefit Overview
DESCRIPTION:Join us from 4:00 5:00 PM at the Westmark Fairbanks Hotel for an informative update from Sara Maguire\, AGC's Interior District Director\, on AGC's efforts and organizational structure in Interior Alaska. Following the Interior update\, Heidi Olson\, AGC's Membership Director\, will provide a comprehensive overview of AGC membership benefits. This event is an excellent opportunity for new members\, long-time members\, and new staff to connect with fellow AGC members\, gain a deeper understanding of available benefits\, and get answers to any questions. All attendees are invited and encouraged to plan to then stay for an AGC Member Mixer immediately following the program\, at the same location.
X-ALT-DESC;FMTTYPE=text/html:<!DOCTYPE html><html><head><title></title></head><body aria-disabled="false"><p>Join us from 4:00&ndash\;5:00 PM at the Westmark Fairbanks Hotel for an informative update from Sara Maguire\, AGC&rsquo\;s Interior District Director\, on AGC&rsquo\;s efforts and organizational structure in Interior Alaska. Following the Interior update\, Heidi Olson\, AGC&rsquo\;s Membership Director\, will provide a comprehensive overview of AGC membership benefits.&nbsp\;</p><p>This event is an excellent opportunity for new members\, long-time members\, and new staff to connect with fellow AGC members\, gain a deeper understanding of available benefits\, and get answers to any questions.&nbsp\;</p><p>All attendees are invited&mdash\;and encouraged&mdash\;to plan to then stay for an AGC Member Mixer immediately following the program\, at the same location.</p></body></html>
LOCATION:813 Noble Street Fairbanks AK 99701-4977
UID:e.2372.1442950
SEQUENCE:3
DTSTAMP:20260425T160802Z
URL:https://members.agcak.org/clceventcalendar/Details/interior-district-update-membership-benefit-overview-1709039?sourceTypeId=Hub
END:VEVENT
END:VCALENDAR
