BEGIN:VCALENDAR
VERSION:2.0
PRODID:-//ChamberMaster//Event Calendar 2.0//EN
METHOD:PUBLISH
X-PUBLISHED-TTL:P1H
REFRESH-INTERVAL:P1H
CALSCALE:GREGORIAN
BEGIN:VTIMEZONE
TZID:America/Anchorage
BEGIN:DAYLIGHT
RRULE:FREQ=YEARLY;BYMONTH=3;BYDAY=2SU
DTSTART:20070101T000000
TZOFFSETFROM:-0900
TZOFFSETTO:-0800
TZNAME:Alaskan Daylight Time
END:DAYLIGHT
BEGIN:STANDARD
RRULE:FREQ=YEARLY;BYMONTH=11;BYDAY=1SU
DTSTART:20070101T000000
TZOFFSETFROM:-0800
TZOFFSETTO:-0900
TZNAME:Alaskan Standard Time
END:STANDARD
END:VTIMEZONE
BEGIN:VEVENT
DTSTART;TZID=America/Anchorage:20260521T170000
DTEND;TZID=America/Anchorage:20260521T190000
X-MICROSOFT-CDO-ALLDAYEVENT:FALSE
SUMMARY:AGC Mat-Su Mixer
DESCRIPTION:Join us at Bear Paw Brewing in Wasilla for AGC's annual Mat-Su Valley Member Mixer! Enjoy pizza and beverages while meeting with other AGC members and expanding your network and preparing to kick off a busy summer construction season.
X-ALT-DESC;FMTTYPE=text/html:<!DOCTYPE html><html><head><title></title></head><body aria-disabled="false"><p>Join us at Bear Paw Brewing in Wasilla for AGC&#39\;s annual Mat-Su Valley Member Mixer!&nbsp\;</p><p>Enjoy pizza and beverages while meeting with other AGC members and expanding your network and preparing to kick off a busy summer construction season.</p></body></html>
LOCATION:240 E. Railroad Avenue Wasilla AK 99654
UID:e.2372.1436241
SEQUENCE:3
DTSTAMP:20260425T161050Z
URL:https://members.agcak.org/clceventcalendar/Details/agc-mat-su-mixer-1700180?sourceTypeId=Hub
END:VEVENT
END:VCALENDAR
