BEGIN:VCALENDAR
VERSION:2.0
PRODID:-//ChamberMaster//Event Calendar 2.0//EN
METHOD:PUBLISH
X-PUBLISHED-TTL:P1H
REFRESH-INTERVAL:P1H
CALSCALE:GREGORIAN
BEGIN:VTIMEZONE
TZID:America/Anchorage
BEGIN:DAYLIGHT
RRULE:FREQ=YEARLY;BYMONTH=3;BYDAY=2SU
DTSTART:20070101T000000
TZOFFSETFROM:-0900
TZOFFSETTO:-0800
TZNAME:Alaskan Daylight Time
END:DAYLIGHT
BEGIN:STANDARD
RRULE:FREQ=YEARLY;BYMONTH=11;BYDAY=1SU
DTSTART:20070101T000000
TZOFFSETFROM:-0800
TZOFFSETTO:-0900
TZNAME:Alaskan Standard Time
END:STANDARD
END:VTIMEZONE
BEGIN:VEVENT
DTSTART;TZID=America/Anchorage:20260625T170000
DTEND;TZID=America/Anchorage:20260625T190000
X-MICROSOFT-CDO-ALLDAYEVENT:FALSE
SUMMARY:2026 CLC Grill & Chill
DESCRIPTION:Mark your calendars to join the CLC for an afternoon of Yeti Dogs\, beverages\, and yard games at the AGC Anchorage office! Network with AGC members\, attend the Anchorage Golf Tournament awards presentation\, play a game of cornhole\, and enjoy a beverage in the sun (hopefully!) as we reconnect during a busy summer season. New to networking? CLC has got you covered! Join us at 4:30PM in the AGC office\, before the Grill & Chill kicks off\, for a networking crash course hosted by AGC executive leadership. Please RSVP for yourself + any guests. If you have any questions please call Heidi Olson at (715) 897-5054.
X-ALT-DESC;FMTTYPE=text/html:<!DOCTYPE html><html><head><title></title></head><body aria-disabled="false"><p>Mark your calendars to join the CLC for an afternoon of Yeti Dogs\, beverages\, and yard games at the AGC Anchorage office!&nbsp\;</p><p>Network with AGC members\, attend the Anchorage Golf Tournament awards presentation\, play a game of cornhole\, and enjoy a beverage in the sun (hopefully!) as we reconnect during a busy summer season.&nbsp\;</p><p>New to networking? CLC has got you covered! Join us at 4:30PM in the AGC office\, before the Grill &amp\; Chill kicks off\, for a networking crash course hosted by AGC executive leadership.&nbsp\;</p><p>Please RSVP for yourself + any guests. If you have any questions please call Heidi Olson at (715) 897-5054.</p></body></html>
LOCATION:8005 Schoon St. Anchorage AK 99518
UID:e.2372.1435512
SEQUENCE:3
DTSTAMP:20260425T161311Z
URL:https://members.agcak.org/clceventcalendar/Details/2026-clc-grill-chill-1699218?sourceTypeId=Hub
END:VEVENT
END:VCALENDAR
